BEGIN:VCALENDAR
VERSION:2.0
PRODID:DPCALENDAR
CALSCALE:GREGORIAN
BEGIN:VTIMEZONE
TZID:Europe/Zurich
BEGIN:STANDARD
DTSTART:20251026T010000
TZOFFSETFROM:+0200
TZOFFSETTO:+0100
TZNAME:CET
END:STANDARD
BEGIN:STANDARD
DTSTART:20261025T010000
TZOFFSETFROM:+0200
TZOFFSETTO:+0100
TZNAME:CET
END:STANDARD
BEGIN:DAYLIGHT
DTSTART:20260329T010000
TZOFFSETFROM:+0100
TZOFFSETTO:+0200
TZNAME:CEST
END:DAYLIGHT
END:VTIMEZONE
X-WR-TIMEZONE:Europe/Zurich
BEGIN:VEVENT
DTSTART;TZID=Europe/Zurich:20250221T070000
DTEND;TZID=Europe/Zurich:20250221T170000
UID:7B57D689-4A60-4707-AE66-961F60F62427
SUMMARY:Schweizermeisterschaft Auflageschiessen 10m
CREATED:20250129T144327Z
DTSTAMP:20250129T144327Z
URL:https://sgsteinhausen.ch/veranstaltungen/schweizermeisterschaft-auflageschiessen-10m.html
LAST-MODIFIED:20250129T144546Z
SEQUENCE:139
X-ACCESS:1
X-HITS:3
X-COLOR:ccb333
X-SHOW-END-TIME:1
END:VEVENT
END:VCALENDAR